BEGIN:VCALENDAR
VERSION:2.0
PRODID:-//Women+ in Technology Group  - ECPv6.7.0//NONSGML v1.0//EN
CALSCALE:GREGORIAN
METHOD:PUBLISH
X-WR-CALNAME:Women+ in Technology Group 
X-ORIGINAL-URL:https://wit.rutgers.edu
X-WR-CALDESC:Events for Women+ in Technology Group 
REFRESH-INTERVAL;VALUE=DURATION:PT1H
X-Robots-Tag:noindex
X-PUBLISHED-TTL:PT1H
BEGIN:VTIMEZONE
TZID:America/New_York
BEGIN:DAYLIGHT
TZOFFSETFROM:-0500
TZOFFSETTO:-0400
TZNAME:EDT
DTSTART:20230312T070000
END:DAYLIGHT
BEGIN:STANDARD
TZOFFSETFROM:-0400
TZOFFSETTO:-0500
TZNAME:EST
DTSTART:20231105T060000
END:STANDARD
BEGIN:DAYLIGHT
TZOFFSETFROM:-0500
TZOFFSETTO:-0400
TZNAME:EDT
DTSTART:20240310T070000
END:DAYLIGHT
BEGIN:STANDARD
TZOFFSETFROM:-0400
TZOFFSETTO:-0500
TZNAME:EST
DTSTART:20241103T060000
END:STANDARD
BEGIN:DAYLIGHT
TZOFFSETFROM:-0500
TZOFFSETTO:-0400
TZNAME:EDT
DTSTART:20250309T070000
END:DAYLIGHT
BEGIN:STANDARD
TZOFFSETFROM:-0400
TZOFFSETTO:-0500
TZNAME:EST
DTSTART:20251102T060000
END:STANDARD
TZID:UTC
BEGIN:STANDARD
TZOFFSETFROM:+0000
TZOFFSETTO:+0000
TZNAME:UTC
DTSTART:20230101T000000
END:STANDARD
END:VTIMEZONE
BEGIN:VEVENT
DTSTART;TZID=America/New_York:20230719T100000
DTEND;TZID=America/New_York:20230719T103000
DTSTAMP:20260421T052142
CREATED:20230303T170328Z
LAST-MODIFIED:20230524T121622Z
UID:1044-1689760800-1689762600@wit.rutgers.edu
SUMMARY:BTAA - WIT - How to advocate for yourself
DESCRIPTION:July 19 – How to advocate for yourself\nHost: University of Michigan – Jennifer Swaney\n30 minute session 10am – 10:30am EST | 9am – 9:30am CST\nhttps://www.btaa.org/witcoffeecatchups
URL:https://wit.rutgers.edu/event/btaa-wit-how-to-advocate-for-yourself/
LOCATION:Zoom
CATEGORIES:BTAA - WIT
ATTACH;FMTTYPE=image/jpeg:https://sites.rutgers.edu/ru-wit/wp-content/uploads/sites/114/2018/02/slide2.jpg
END:VEVENT
BEGIN:VEVENT
DTSTART;TZID=America/New_York:20230724T153000
DTEND;TZID=America/New_York:20230724T163000
DTSTAMP:20260421T052142
CREATED:20230531T125758Z
LAST-MODIFIED:20230531T131053Z
UID:1078-1690212600-1690216200@wit.rutgers.edu
SUMMARY:Rutgers - WIT Working Group Meeting
DESCRIPTION:Please join our working group and help to plan future Women+ in IT events for Rutgers Faculty and Staff.  All are welcome!\nClick here to  Register
URL:https://wit.rutgers.edu/event/rutgers-wit-working-group-meeting-2/
LOCATION:Zoom
CATEGORIES:BTAA - WIT,Planning Meeting,Working Meeting
ATTACH;FMTTYPE=image/png:https://sites.rutgers.edu/ru-wit/wp-content/uploads/sites/114/2021/07/square-hands.png
END:VEVENT
BEGIN:VEVENT
DTSTART;TZID=America/New_York:20230816T100000
DTEND;TZID=America/New_York:20230816T110000
DTSTAMP:20260421T052142
CREATED:20230328T160813Z
LAST-MODIFIED:20230814T153515Z
UID:1055-1692180000-1692183600@wit.rutgers.edu
SUMMARY:BTAA - WIT - Demo of Career Development System
DESCRIPTION:August 16 – Demo of Career Development System\nHost: Renee Petrina and Jenna Ellis\, Indiana University\n1 hour session: (10-11 EST\, 9-10 CST)\nhttps://btaa.zoom.us/j/95665026189?pwd=RHRiUytHVkVESXJocWE4N0N0VVlCUT09
URL:https://wit.rutgers.edu/event/btaa-wit-demo-of-career-development-system/
LOCATION:Zoom
CATEGORIES:BTAA - WIT
ATTACH;FMTTYPE=image/jpeg:https://sites.rutgers.edu/ru-wit/wp-content/uploads/sites/114/2018/02/slide2.jpg
END:VEVENT
BEGIN:VEVENT
DTSTART;TZID=America/New_York:20230920T100000
DTEND;TZID=America/New_York:20230920T103000
DTSTAMP:20260421T052142
CREATED:20230803T131432Z
LAST-MODIFIED:20230803T131432Z
UID:1081-1695204000-1695205800@wit.rutgers.edu
SUMMARY:BTAA - WIT | Preparing for conference speaking
DESCRIPTION:Creating a good talk; What great talks have you seen\nHost: Amanda Thorton\, University of Wisconsin
URL:https://wit.rutgers.edu/event/btaa-wit-preparing-for-conference-speaking/
LOCATION:Zoom
ATTACH;FMTTYPE=image/jpeg:https://sites.rutgers.edu/ru-wit/wp-content/uploads/sites/114/2023/08/coffee-catchup-btaawit.jpg
END:VEVENT
BEGIN:VEVENT
DTSTART;TZID=UTC:20231010T140000
DTEND;TZID=UTC:20231010T150000
DTSTAMP:20260421T052142
CREATED:20230803T144448Z
LAST-MODIFIED:20230803T144448Z
UID:1090-1696946400-1696950000@wit.rutgers.edu
SUMMARY:Rutgers WIT | Working Group Meeting
DESCRIPTION:Join our working group committee as we plan events for the upcoming year.
URL:https://wit.rutgers.edu/event/rutgers-wit-working-group-meeting-3/
LOCATION:Zoom
ATTACH;FMTTYPE=image/jpeg:https://sites.rutgers.edu/ru-wit/wp-content/uploads/sites/114/2023/08/rutgers-wit-workinggroup.jpg
END:VEVENT
BEGIN:VEVENT
DTSTART;TZID=America/New_York:20231018T100000
DTEND;TZID=America/New_York:20231018T103000
DTSTAMP:20260421T052142
CREATED:20230803T132134Z
LAST-MODIFIED:20230803T132134Z
UID:1084-1697623200-1697625000@wit.rutgers.edu
SUMMARY:BTAA - WIT | Personal Branding
DESCRIPTION:Topic: Personal Branding\nMehrnaz \, University of Wisconsin
URL:https://wit.rutgers.edu/event/btaa-wit-personal-branding/
LOCATION:Zoom
CATEGORIES:BTAA - WIT
ATTACH;FMTTYPE=image/jpeg:https://sites.rutgers.edu/ru-wit/wp-content/uploads/sites/114/2023/08/coffee-catchup-btaawit.jpg
END:VEVENT
BEGIN:VEVENT
DTSTART;TZID=America/New_York:20231024T130000
DTEND;TZID=America/New_York:20231024T140000
DTSTAMP:20260421T052142
CREATED:20230810T144636Z
LAST-MODIFIED:20230913T132309Z
UID:1097-1698152400-1698156000@wit.rutgers.edu
SUMMARY:Rutgers WIT Event - Frozen Moments
DESCRIPTION:A WIT / DEI Focused Event\nHave you ever walked away from a situation and wish you had responded differently. People make inappropriate comments regarding race\, age\, disabilities and the like. Let’s delve into possible responses during these times. \nThis event will be HYBRID.  We will meet in person in Newark and we will have an online zoom option. \nRegister \nIn person address:\n185 South Orange AvenueMedical Science Building\,  Rm C680Newark\, NJ 07103 \nClick for Directions / Parking
URL:https://wit.rutgers.edu/event/rutgers-wit-event-frozen-moments/
LOCATION:185 South Orange Avenue Medical Science Building\,  Rm C680 Newark\, NJ 07103\, 185 South Orange Avenue\, Newark\, NJ\, 07103\, United States
CATEGORIES:RU - WIT Event
ATTACH;FMTTYPE=image/jpeg:https://sites.rutgers.edu/ru-wit/wp-content/uploads/sites/114/2023/08/frozen-moments-rutgers-wit.jpg
END:VEVENT
BEGIN:VEVENT
DTSTART;TZID=UTC:20231115T100000
DTEND;TZID=UTC:20231115T103000
DTSTAMP:20260421T052142
CREATED:20230803T132255Z
LAST-MODIFIED:20230803T132255Z
UID:1086-1700042400-1700044200@wit.rutgers.edu
SUMMARY:BTAA - WIT | How are you using AI for efficiency in the workplace
DESCRIPTION:Topic: How are you using AI for efficiency in the workplace\nHost: Jennifer Swaney\, University of Michigan
URL:https://wit.rutgers.edu/event/btaa-wit-how-are-you-using-ai-for-efficiency-in-the-workplace/
LOCATION:Zoom
CATEGORIES:BTAA - WIT
ATTACH;FMTTYPE=image/jpeg:https://sites.rutgers.edu/ru-wit/wp-content/uploads/sites/114/2023/08/coffee-catchup-btaawit.jpg
END:VEVENT
BEGIN:VEVENT
DTSTART;TZID=America/New_York:20231220T100000
DTEND;TZID=America/New_York:20231220T110000
DTSTAMP:20260421T052142
CREATED:20230803T132422Z
LAST-MODIFIED:20230803T132422Z
UID:1088-1703066400-1703070000@wit.rutgers.edu
SUMMARY:BTAA - WIT | Effective Communication
DESCRIPTION:Topic: Effective Communication\nHost: Laura Gordon\,  Rutgers\, The State University of New Jersey \nWe will take a short session on effective communication\, then break out into groups to discuss what we learned.
URL:https://wit.rutgers.edu/event/btaa-wit-effective-communication/
LOCATION:Zoom
CATEGORIES:BTAA - WIT
ATTACH;FMTTYPE=image/jpeg:https://sites.rutgers.edu/ru-wit/wp-content/uploads/sites/114/2023/08/coffee-catchup-btaawit.jpg
END:VEVENT
BEGIN:VEVENT
DTSTART;TZID=UTC:20240109T140000
DTEND;TZID=UTC:20240109T150000
DTSTAMP:20260421T052142
CREATED:20230803T144618Z
LAST-MODIFIED:20230803T144618Z
UID:1093-1704808800-1704812400@wit.rutgers.edu
SUMMARY:Rutgers WIT | Working Group Meeting
DESCRIPTION:Join our working group committee as we plan events for the upcoming year.
URL:https://wit.rutgers.edu/event/rutgers-wit-working-group-meeting-4/
LOCATION:Zoom
CATEGORIES:Planning Meeting
ATTACH;FMTTYPE=image/jpeg:https://sites.rutgers.edu/ru-wit/wp-content/uploads/sites/114/2023/08/rutgers-wit-workinggroup.jpg
END:VEVENT
BEGIN:VEVENT
DTSTART;TZID=America/New_York:20240117T100000
DTEND;TZID=America/New_York:20240117T103000
DTSTAMP:20260421T052142
CREATED:20231205T161844Z
LAST-MODIFIED:20240105T134604Z
UID:1136-1705485600-1705487400@wit.rutgers.edu
SUMMARY:BTAA - WIT | Cultural Discussion
DESCRIPTION:Join us as we discuss various cultures in the work place.  Let’s learn from each other! \nHost: Mehrnaz Ahmadi Joobaneh\, University of Wisconsin
URL:https://wit.rutgers.edu/event/btaa-wit-cultural-discussion/
LOCATION:Zoom
CATEGORIES:BTAA - WIT
ATTACH;FMTTYPE=image/jpeg:https://sites.rutgers.edu/ru-wit/wp-content/uploads/sites/114/2023/08/coffee-catchup-btaawit.jpg
END:VEVENT
BEGIN:VEVENT
DTSTART;TZID=America/New_York:20240221T100000
DTEND;TZID=America/New_York:20240221T120000
DTSTAMP:20260421T052142
CREATED:20231205T161227Z
LAST-MODIFIED:20240122T203542Z
UID:1130-1708509600-1708516800@wit.rutgers.edu
SUMMARY:BTAA - WIT |  Mini Conference
DESCRIPTION:Conference Topic: Empowering You\nWednesday\, Feb 21\, 2024\n10:00 EDT – 12:00 Noon\nClick to Register \n“Everything you ever wanted is learning how to draw it out of yourself because you are that powerful.” – Lumalia \nKeynote: Sara Tage-Pederson \nWe will learn from Sara about she empowered herself\, then we will learn from our trusted guides how to build our own Recommendation Letter.  This will be helpful for all members of IT.  One of the most difficult tasks in today’s world is to define our best features and our assets\, let’s focus on that and empower ourselves! \n 
URL:https://wit.rutgers.edu/event/btaa-wit-mini-conference/
LOCATION:Zoom
CATEGORIES:BTAA - WIT
ATTACH;FMTTYPE=image/png:https://sites.rutgers.edu/ru-wit/wp-content/uploads/sites/114/2023/12/thumbnail_Outlook-image.png.png
END:VEVENT
BEGIN:VEVENT
DTSTART;TZID=America/New_York:20240320T100000
DTEND;TZID=America/New_York:20240320T103000
DTSTAMP:20260421T052142
CREATED:20231205T161433Z
LAST-MODIFIED:20231205T161433Z
UID:1132-1710928800-1710930600@wit.rutgers.edu
SUMMARY:BTAA - WIT | Wellness / Ice Breaker Coffee Catchup
DESCRIPTION:Let’s take the time to focus on Wellness and getting to know each other better. \nHost: Jennifer Swaney\, University of Michigan
URL:https://wit.rutgers.edu/event/btaa-wit-wellness-ice-breaker-coffee-catchup/
LOCATION:Zoom
CATEGORIES:BTAA - WIT
ATTACH;FMTTYPE=image/jpeg:https://sites.rutgers.edu/ru-wit/wp-content/uploads/sites/114/2023/08/coffee-catchup-btaawit.jpg
END:VEVENT
BEGIN:VEVENT
DTSTART;TZID=UTC:20240404T140000
DTEND;TZID=UTC:20240404T150000
DTSTAMP:20260421T052142
CREATED:20240202T172420Z
LAST-MODIFIED:20240202T203110Z
UID:1149-1712239200-1712242800@wit.rutgers.edu
SUMMARY:Self-Care is Not Selfish | Making Wellness a Priority
DESCRIPTION:Self-Care is Not Selfish | Making Wellness a Priority\nDate: Thursday\, April 4\, 2:00pm -3:00 pm \nFormat: Hybrid Format\, In-person and zoom\nLocation: Livingston Campus | Lucy Stone Hall | Room B110 \n54 Joyce Kilmer Ave\, Piscataway\, NJ \nAlso via Zoom \nAre you struggling with stress at work? At home? Somewhere else? Do you have some techniques to support your well-being but want more? Join Rutgers W+ in IT (WIT) as we share some of our favorite wellness and self-care resources. Feel free to bring your favorite resources to share. \nRegister \nIf the weather cooperates after the event we will take a walk to get some frozen yogurt at 16 Handles!
URL:https://wit.rutgers.edu/event/self-care-is-not-selfish-making-wellness-a-priority/
LOCATION:Livingston Campus | Lucy Stone Hall | Room B110\, 54 Joyce Kilmer Ave\, Piscataway\, NJ\, 08854\, United States
ATTACH;FMTTYPE=image/jpeg:https://sites.rutgers.edu/ru-wit/wp-content/uploads/sites/114/2024/02/rutgers-wit-sq.jpg
END:VEVENT
BEGIN:VEVENT
DTSTART;TZID=America/New_York:20240417T100000
DTEND;TZID=America/New_York:20240417T103000
DTSTAMP:20260421T052142
CREATED:20231205T161639Z
LAST-MODIFIED:20231205T161639Z
UID:1134-1713348000-1713349800@wit.rutgers.edu
SUMMARY:BTAA - WIT |  Guidance for New and Younger people in the Workforce
DESCRIPTION:Are you new to the work force?  Do you want to learn from  more seasoned employees?  This is the time to ask those questions and learn from each other. \nHost: Courtney Louise Fleeger\, University of Illinois
URL:https://wit.rutgers.edu/event/btaa-wit-guidance-for-new-and-younger-people-in-the-workforce/
LOCATION:Zoom
CATEGORIES:BTAA - WIT
ATTACH;FMTTYPE=image/jpeg:https://sites.rutgers.edu/ru-wit/wp-content/uploads/sites/114/2023/08/coffee-catchup-btaawit.jpg
END:VEVENT
BEGIN:VEVENT
DTSTART;TZID=America/New_York:20240515T100000
DTEND;TZID=America/New_York:20240515T103000
DTSTAMP:20260421T052142
CREATED:20231205T161036Z
LAST-MODIFIED:20240105T134531Z
UID:1127-1715767200-1715769000@wit.rutgers.edu
SUMMARY:BTAA - WIT | Learn more about Sharepoint
DESCRIPTION:Host: Ishrat Fatima\, Northwestern \nIshrat will take us through how Northwestern uses Sharepoint at their university.  We will discuss the following: \nWhat features do you use in Sharepoint with your team?\nHow do you use SharePoint\nIf you don’t use SharePoint what collaboration tool do you use?
URL:https://wit.rutgers.edu/event/learn-more-about-sharepoint/
LOCATION:Zoom
CATEGORIES:BTAA - WIT
ATTACH;FMTTYPE=image/jpeg:https://sites.rutgers.edu/ru-wit/wp-content/uploads/sites/114/2023/08/coffee-catchup-btaawit.jpg
END:VEVENT
BEGIN:VEVENT
DTSTART;TZID=UTC:20240611T140000
DTEND;TZID=UTC:20240611T150000
DTSTAMP:20260421T052142
CREATED:20230803T144718Z
LAST-MODIFIED:20230803T144718Z
UID:1095-1718114400-1718118000@wit.rutgers.edu
SUMMARY:Rutgers WIT - Working Group Meeting
DESCRIPTION:Join our working group committee as we plan events for the upcoming year.
URL:https://wit.rutgers.edu/event/rutgers-wit-working-group-meeting-5/
LOCATION:Zoom
CATEGORIES:Planning Meeting
ATTACH;FMTTYPE=image/jpeg:https://sites.rutgers.edu/ru-wit/wp-content/uploads/sites/114/2023/08/rutgers-wit-workinggroup.jpg
END:VEVENT
BEGIN:VEVENT
DTSTART;TZID=UTC:20240717T100000
DTEND;TZID=UTC:20240717T103000
DTSTAMP:20260421T052142
CREATED:20240405T194319Z
LAST-MODIFIED:20240501T194553Z
UID:1175-1721210400-1721212200@wit.rutgers.edu
SUMMARY:BTAA – WIT | (un)Biased?
DESCRIPTION:Let’s really talk about what it means to be (un)Biased \nHost: Mehrnaz Ahmadi Joobaneh\, University of Wisconsin
URL:https://wit.rutgers.edu/event/btaa-wit-unbiased/
LOCATION:Zoom
CATEGORIES:BTAA - WIT
ATTACH;FMTTYPE=image/jpeg:https://sites.rutgers.edu/ru-wit/wp-content/uploads/sites/114/2018/02/slide2.jpg
END:VEVENT
BEGIN:VEVENT
DTSTART;TZID=America/New_York:20240821T100000
DTEND;TZID=America/New_York:20240821T110000
DTSTAMP:20260421T052142
CREATED:20240501T194840Z
LAST-MODIFIED:20240717T142209Z
UID:1185-1724234400-1724238000@wit.rutgers.edu
SUMMARY:BTAA - WIT - Neurodivergence in the workplace\, you are not broken
DESCRIPTION:Host: Murday Kimmaree and Eric Postel\, Indiana University\nWe will discuss about neurodivergence in the workplace\, most importantly\, you are NOT broken.\nZoom Link
URL:https://wit.rutgers.edu/event/btaa-wit-neurodivergence-in-the-workplace-you-are-not-broken/
LOCATION:Zoom
CATEGORIES:BTAA - WIT
ATTACH;FMTTYPE=image/jpeg:https://sites.rutgers.edu/ru-wit/wp-content/uploads/sites/114/2023/08/coffee-catchup-btaawit.jpg
END:VEVENT
BEGIN:VEVENT
DTSTART;TZID=America/New_York:20240917T140000
DTEND;TZID=America/New_York:20240917T150000
DTSTAMP:20260421T052142
CREATED:20240703T173930Z
LAST-MODIFIED:20240708T152153Z
UID:1207-1726581600-1726585200@wit.rutgers.edu
SUMMARY:Rutgers Women+ in Technology - Working Group Meeting
DESCRIPTION:Join us for our quarterly Working Group Meeting. \nRegister
URL:https://wit.rutgers.edu/event/rutgers-women-in-technology-working-group-meeting/
LOCATION:Zoom
CATEGORIES:RU - WIT Event
ATTACH;FMTTYPE=image/png:https://sites.rutgers.edu/ru-wit/wp-content/uploads/sites/114/2021/07/square-hands.png
END:VEVENT
BEGIN:VEVENT
DTSTART;TZID=America/New_York:20240918T100000
DTEND;TZID=America/New_York:20240918T103000
DTSTAMP:20260421T052142
CREATED:20240603T193518Z
LAST-MODIFIED:20240717T142241Z
UID:1198-1726653600-1726655400@wit.rutgers.edu
SUMMARY:BTAA – WIT | Climbing the career ladder vs being amazing in your role and growing in different ways
DESCRIPTION:Host: Krista Dunger\, University of Michigan
URL:https://wit.rutgers.edu/event/btaa-wit-climbing-the-career-ladder-vs-being-amazing-in-your-role-and-growing-in-different-ways/
LOCATION:Zoom
CATEGORIES:BTAA - WIT
ATTACH;FMTTYPE=image/jpeg:https://sites.rutgers.edu/ru-wit/wp-content/uploads/sites/114/2023/08/coffee-catchup-btaawit.jpg
END:VEVENT
BEGIN:VEVENT
DTSTART;TZID=America/New_York:20241009T100000
DTEND;TZID=America/New_York:20241009T110000
DTSTAMP:20260421T052142
CREATED:20240809T184544Z
LAST-MODIFIED:20240827T192140Z
UID:1223-1728468000-1728471600@wit.rutgers.edu
SUMMARY:Cybersecurity and You (Why is it important and what is my role?)
DESCRIPTION:In this engaging virtual session\, we’ll dive into the fascinating world of cybersecurity and explore why it matters to each one of us\, regardless of our technical background. We all play a crucial role in safeguarding our digital lives\, our organizations\, and our communities. So\, grab your virtual seat\, and let’s unravel the mysteries of cyberspace together!\n\nRemember\, cybersecurity isn’t just about firewalls and encryption—it’s about empowering ourselves and our colleagues to navigate the digital landscape safely. So\, mark your calendars\, and let’s plan to make this session both informative and fun!\n\nRegister
URL:https://wit.rutgers.edu/event/cybersecurity-and-you-why-is-it-important-and-what-is-my-role/
LOCATION:Zoom
ATTACH;FMTTYPE=image/png:https://sites.rutgers.edu/ru-wit/wp-content/uploads/sites/114/2024/08/cyber-security-wit.png
END:VEVENT
BEGIN:VEVENT
DTSTART;TZID=America/New_York:20241016T100000
DTEND;TZID=America/New_York:20241016T110000
DTSTAMP:20260421T052142
CREATED:20240604T191240Z
LAST-MODIFIED:20240903T160617Z
UID:1201-1729072800-1729076400@wit.rutgers.edu
SUMMARY:BTAA – WIT | Frozen Moments
DESCRIPTION:Hosts: Courtney Terry & Audrey McNeill\, Rutgers
URL:https://wit.rutgers.edu/event/btaa-wit-frozen-moments/
LOCATION:Zoom
CATEGORIES:BTAA - WIT
ATTACH;FMTTYPE=image/jpeg:https://sites.rutgers.edu/ru-wit/wp-content/uploads/sites/114/2023/08/coffee-catchup-btaawit.jpg
END:VEVENT
BEGIN:VEVENT
DTSTART;TZID=America/New_York:20241120T100000
DTEND;TZID=America/New_York:20241120T103000
DTSTAMP:20260421T052142
CREATED:20240604T191344Z
LAST-MODIFIED:20241008T192715Z
UID:1203-1732096800-1732098600@wit.rutgers.edu
SUMMARY:BTAA – WIT | Continuous Improvement
DESCRIPTION:Host: Nina Hamedani\, University of Maryland
URL:https://wit.rutgers.edu/event/btaa-wit-continuous-improvement/
LOCATION:Zoom
CATEGORIES:BTAA - WIT
ATTACH;FMTTYPE=image/jpeg:https://sites.rutgers.edu/ru-wit/wp-content/uploads/sites/114/2023/08/coffee-catchup-btaawit.jpg
END:VEVENT
BEGIN:VEVENT
DTSTART;TZID=UTC:20241217T140000
DTEND;TZID=UTC:20241217T150000
DTSTAMP:20260421T052142
CREATED:20240708T152316Z
LAST-MODIFIED:20240708T152316Z
UID:1215-1734444000-1734447600@wit.rutgers.edu
SUMMARY:Rutgers Women+ in Technology - Working Group Meeting
DESCRIPTION:Join us for our quarterly Working Group Meeting. \nRegister
URL:https://wit.rutgers.edu/event/rutgers-women-in-technology-working-group-meeting-2/
LOCATION:Zoom
CATEGORIES:RU - WIT Event
ATTACH;FMTTYPE=image/png:https://sites.rutgers.edu/ru-wit/wp-content/uploads/sites/114/2021/07/square-hands.png
END:VEVENT
BEGIN:VEVENT
DTSTART;TZID=America/New_York:20241218T100000
DTEND;TZID=America/New_York:20241218T110000
DTSTAMP:20260421T052142
CREATED:20240604T191721Z
LAST-MODIFIED:20241205T173539Z
UID:1205-1734516000-1734519600@wit.rutgers.edu
SUMMARY:BTAA – WIT | Neurodivergence in the workplace: You are not broken
DESCRIPTION:RESCHEDULED: Neurodivergence in the Workplace: You Are Not Broken | Kimmaree Murday and Eric Postel\, Indiana University\nThis one-hour session will explore real-world scenarios to discuss how to foster understanding and how to create a more inclusive and supportive work environment.
URL:https://wit.rutgers.edu/event/btaa-wit-getting-to-know-each-other/
LOCATION:Zoom
CATEGORIES:BTAA - WIT
ATTACH;FMTTYPE=image/jpeg:https://sites.rutgers.edu/ru-wit/wp-content/uploads/sites/114/2023/08/coffee-catchup-btaawit.jpg
END:VEVENT
BEGIN:VEVENT
DTSTART;TZID=UTC:20250115T113000
DTEND;TZID=UTC:20250115T120000
DTSTAMP:20260421T052142
CREATED:20241115T113015Z
LAST-MODIFIED:20250107T205305Z
UID:1256-1736940600-1736942400@wit.rutgers.edu
SUMMARY:Ethical AI: Wishful Thinking or Reality? (*NEW COFFEE CATCHUP TIME 11:30am)
DESCRIPTION:Please join us for a coffee catch-up on the critical topic of AI\, specifically GenAI. As this technology rapidly advances\, becoming integrated into both our daily and professional lives\, it brings significant ethical challenges and concerns. Are these ethical issues an inevitable trade-off for the unprecedented efficiency that AI offers\, or can we aim for something better?\n\nIn our thought-provoking discussion\, we’ll explore what it takes to make AI more inclusive\, ethically-driven\, and trustworthy. We’ll also look ahead to the future of AI technology and consider how ethical considerations can enhance its usability and impact. Let’s come together to discuss\, question\, and envision a future where AI not only revolutionizes our lives but does so in a fair and ethical manner.\n\nHost: Victoria Abramenka-Lachheb\n\nRegister for Coffee Catchup
URL:https://wit.rutgers.edu/event/ethical-ai-wishful-thinking-or-reality-new-coffee-catchup-time-1130am/
LOCATION:Zoom
CATEGORIES:BTAA - WIT
ATTACH;FMTTYPE=image/jpeg:https://sites.rutgers.edu/ru-wit/wp-content/uploads/sites/114/2023/08/coffee-catchup-btaawit.jpg
END:VEVENT
BEGIN:VEVENT
DTSTART;TZID=America/New_York:20250124T100000
DTEND;TZID=America/New_York:20250124T170000
DTSTAMP:20260421T052142
CREATED:20241219T180459Z
LAST-MODIFIED:20241219T180459Z
UID:1280-1737712800-1737738000@wit.rutgers.edu
SUMMARY:2025 Privacy Everywhere Conference
DESCRIPTION:Human-centered by Design\n\n\n\nFriday\, January 24\, 2025\, 9 a.m. – 4 p.m. CST\nBeckman Institute for Advanced Science and Technology\, 405 N. Mathews Ave. Urbana\, IL and Online \nFree | Lunch available for in-person attendees \n\n\n\nDecisions about privacy impact every aspect of our professional\, educational\, and personal lives. This in-person conference\, with streaming available\, explores a human-centered approach to privacy—balancing innovation with privacy rights and ethical data use. Sessions will cover critical topics\, including human-centric data systems\, privacy by design\, the ethical challenges of data collection\, the intersection of privacy and public safety in police surveillance technology and the role of AI in privacy. Attendees will gain insights into privacy principles from legal\, ethical\, and industry perspectives\, leaving equipped to implement human-centered privacy practices in higher education and beyond. \n\n\n\nRegistration for conference with lunch closes January 13. Registration for in person or online attendance without lunch closes January 23. \n\n\n\n\nRegister here
URL:https://wit.rutgers.edu/event/2025-privacy-everywhere-conference/
LOCATION:Zoom
END:VEVENT
BEGIN:VEVENT
DTSTART;TZID=UTC:20250226T120000
DTEND;TZID=UTC:20250226T140000
DTSTAMP:20260421T052142
CREATED:20241115T154746Z
LAST-MODIFIED:20241121T202908Z
UID:1258-1740571200-1740578400@wit.rutgers.edu
SUMMARY:BTAA - Mini Conference - From Self-Doubt to Self-Confidence Mini-Conference
DESCRIPTION:Join us for an interactive session on how to manage Imposter Syndrome and bring Self-Doubt to Self-Confidence\, presented by Beth Scheid\, Associate Chief Information Officer at the University of Illinois. We will then have the opportunity to work with BTAA colleagues and take a deep dive into finding solutions and our own self-confidence. \nClick to Register
URL:https://wit.rutgers.edu/event/btaa-mini-conference-from-self-doubt-to-self-confidence-mini-conference/
LOCATION:Zoom
CATEGORIES:BTAA - WIT
ATTACH;FMTTYPE=image/jpeg:https://sites.rutgers.edu/ru-wit/wp-content/uploads/sites/114/2024/11/2025-btaa-mini-conference.jpg
END:VEVENT
BEGIN:VEVENT
DTSTART;TZID=America/New_York:20250304T140000
DTEND;TZID=America/New_York:20250304T150000
DTSTAMP:20260421T052142
CREATED:20240708T152435Z
LAST-MODIFIED:20241115T155513Z
UID:1217-1741096800-1741100400@wit.rutgers.edu
SUMMARY:Rutgers Women+ in Technology – Working Group Meeting
DESCRIPTION:Join us for our quarterly Working Group Meeting. \nRegister
URL:https://wit.rutgers.edu/event/rutgers-women-in-technology-working-group-meeting-3/
LOCATION:Zoom
CATEGORIES:RU - WIT Event
ATTACH;FMTTYPE=image/png:https://sites.rutgers.edu/ru-wit/wp-content/uploads/sites/114/2021/07/square-hands.png
END:VEVENT
END:VCALENDAR