BEGIN:VCALENDAR
VERSION:2.0
PRODID:-//Women+ in Technology Group  - ECPv6.7.0//NONSGML v1.0//EN
CALSCALE:GREGORIAN
METHOD:PUBLISH
X-ORIGINAL-URL:https://wit.rutgers.edu
X-WR-CALDESC:Events for Women+ in Technology Group 
REFRESH-INTERVAL;VALUE=DURATION:PT1H
X-Robots-Tag:noindex
X-PUBLISHED-TTL:PT1H
BEGIN:VTIMEZONE
TZID:UTC
BEGIN:STANDARD
TZOFFSETFROM:+0000
TZOFFSETTO:+0000
TZNAME:UTC
DTSTART:20230101T000000
END:STANDARD
END:VTIMEZONE
BEGIN:VEVENT
DTSTART;TZID=UTC:20230215T100000
DTEND;TZID=UTC:20230215T120000
DTSTAMP:20260420T151337
CREATED:20221116T153131Z
LAST-MODIFIED:20221216T133853Z
UID:1021-1676455200-1676462400@wit.rutgers.edu
SUMMARY:BTAA - Mini Conference - Embrace the Journey
DESCRIPTION:We all have different backgrounds with different ‘curves’ of progress; where we are now is how we worked with successes; seeing it mapped out on a graph brings it home and allows you to ‘speak to it’; it helps others to get to know you better and to listen to others is very helpful for your growth. \n“You can’t connect the dots looking forward; you can only connect them looking backward. So you have to trust that the dots will somehow connect in your future.” 2008\, Steve Jobs \nRegister Today!
URL:https://wit.rutgers.edu/event/btaa-mini-conference-journey-mapping/
LOCATION:Zoom
CATEGORIES:BTAA - WIT
ATTACH;FMTTYPE=image/png:https://sites.rutgers.edu/ru-wit/wp-content/uploads/sites/114/2022/11/sq-2023-mini-conference-all-details.png
END:VEVENT
END:VCALENDAR